BEGIN:VCALENDAR
VERSION:2.0
PRODID:-//Housmans Bookshop - ECPv6.15.20//NONSGML v1.0//EN
CALSCALE:GREGORIAN
METHOD:PUBLISH
X-WR-CALNAME:Housmans Bookshop
X-ORIGINAL-URL:https://housmans.com
X-WR-CALDESC:Events for Housmans Bookshop
REFRESH-INTERVAL;VALUE=DURATION:PT1H
X-Robots-Tag:noindex
X-PUBLISHED-TTL:PT1H
BEGIN:VTIMEZONE
TZID:Europe/London
BEGIN:DAYLIGHT
TZOFFSETFROM:+0000
TZOFFSETTO:+0100
TZNAME:BST
DTSTART:20250330T010000
END:DAYLIGHT
BEGIN:STANDARD
TZOFFSETFROM:+0100
TZOFFSETTO:+0000
TZNAME:GMT
DTSTART:20251026T010000
END:STANDARD
BEGIN:DAYLIGHT
TZOFFSETFROM:+0000
TZOFFSETTO:+0100
TZNAME:BST
DTSTART:20260329T010000
END:DAYLIGHT
BEGIN:STANDARD
TZOFFSETFROM:+0100
TZOFFSETTO:+0000
TZNAME:GMT
DTSTART:20261025T010000
END:STANDARD
BEGIN:DAYLIGHT
TZOFFSETFROM:+0000
TZOFFSETTO:+0100
TZNAME:BST
DTSTART:20270328T010000
END:DAYLIGHT
BEGIN:STANDARD
TZOFFSETFROM:+0100
TZOFFSETTO:+0000
TZNAME:GMT
DTSTART:20271031T010000
END:STANDARD
END:VTIMEZONE
BEGIN:VEVENT
DTSTART;TZID=Europe/London:20260508T190000
DTEND;TZID=Europe/London:20260508T203000
DTSTAMP:20260425T143856
CREATED:20260415T135408Z
LAST-MODIFIED:20260420T134910Z
UID:77744-1778266800-1778272200@housmans.com
SUMMARY:BOOK LAUNCH: REVOLUTIONARY FORGIVENESS: D. K. RENTON in conversation with Barnaby Raine
DESCRIPTION:Housmans are delighted to welcome the legendary theorist\, thinker and lawyer D.K. Renton to launch what we believe may be one of the most original\, and vital\, works of left wing thought to appear in recent years. He will be joined in conversation by the scholar and journalist Barnaby Raine. \n\n\n\n \n\n\n\nForgiveness is necessary in the long fight for a just world—but it is only possible after the oppressed are victorious \n\n\n\nFor too long\, revolutionary social movements have reconciled to defeat. We must start winning again. Forgiveness is a crucial strategy for remaking the world\, to secure and sustain victories\, to transform one-time enemies into friends. With deep political commitment\, D. K. Renton makes the case for forgiveness—but of a particularly unruly sort. Tracing the tragic abuse of Eleanor Marx and Jane Wells\, the mistakes of the South African Truth and Reconciliation Commission\, and the redemption of televangelist Tammy Faye\, Renton urges us to forgive\, but only after tearing down the citadels of the rich. \n\n\n\nRevolutionary Forgiveness connects collective struggle with the individual’s search for justice to demand a better future for all—when the oppressed will be magnanimous in power\, and even former oppressors will be free. \n\n\n\n“Renton rescues ‘forgiveness’ from the pulpit and returns it\, bloodied but lucid\, to history.” \n\n\n\n— Richard Seymour\, author of Disaster Nationalism \n\n\n\nAs always\, tickets are priced on a sliding scale. If you are unable to pay for a ticket please do not hesitate to contact us at shop@housmans.com\, and a free ticket will be made available. \n\n\n\nIf you choose ‘book +entry’ your copies of the book will be available to collect on the evening. If you would like to collect it earlier\, or arrange for delivery\, please contact us (postage is £2.95). Telephone 020 7837 4473 or email shop@housmans.com. \n\n\n\nDoors Open at 6:45pm\, Event Starts 7:00. \n\n\n\n\n\n\n\n\n\n\n\n\n\n\n\n\n\n\nShare this:\n				Share on X (Opens in new window)\n				X\n			\n				Share on Facebook (Opens in new window)\n				Facebook\n			\n				Share on Insta (Opens in new window)\n				Insta\n			Like this:Like Loading...
URL:https://housmans.com/event/book-launch-revolutionary-forgiveness-by-d-k-renton/
CATEGORIES:Book Launch,Book Talk,In Store,Literary Event
ATTACH;FMTTYPE=image/png:https://housmans.com/wp-content/uploads/2026/04/1.png
END:VEVENT
BEGIN:VEVENT
DTSTART;TZID=Europe/London:20260519T190000
DTEND;TZID=Europe/London:20260519T203000
DTSTAMP:20260425T143856
CREATED:20260420T165741Z
LAST-MODIFIED:20260420T165743Z
UID:78027-1779217200-1779222600@housmans.com
SUMMARY:BOOK LAUNCH: The Forest Fights Back with Jessica den Outer
DESCRIPTION:Join Us For A Discussion Of A Global Movement for the Rights of Nature\n\n\n\nAs the world grapples with the escalating climate crisis\, ecosystems are collapsing\, and the planet’s future hangs in the balance. For centuries\, our legal systems have treated nature as something to be owned and exploited\, but a bold new movement is challenging this paradigm. \n\n\n\nIn The Forest Fights Back\, Jessica den Outer explores a groundbreaking global movement—Rights of Nature—taking on the legal system to recognise the rights of rivers\, forests\, and mountains to exist\, flourish\, and sustain their ecological balance. From the fight for the Whanganui River in New Zealand to the battle for Spain’s Mar Menor lagoon\, den Outer highlights the campaigns led by grassroots communities\, telling stories of determination and legal ingenuity. \n\n\n\nThis movement goes beyond law – it represents a cultural shift that could reshape how we live\, think\, co-exist and advocate for nature. \n\n\n\nAs always\, tickets are priced on a sliding scale. If you are unable to pay for a ticket please do not hesitate to contact us at shop@housmans.com\, and a free ticket will be made available. \n\n\n\nIf you choose ‘book +entry’ your copies of the book will be available to collect on the evening. If you would like to collect it earlier\, or arrange for delivery\, please contact us (postage is £2.95). Telephone 020 7837 4473 or email shop@housmans.com. \n\n\n\nDoors Open at 6:45pm\, Event Starts 7:00. \n\n\n\n\n\n\n\n\n\n\n\n\n\n\n\n\n\n\n\n\n\n \nShare this:\n				Share on X (Opens in new window)\n				X\n			\n				Share on Facebook (Opens in new window)\n				Facebook\n			\n				Share on Insta (Opens in new window)\n				Insta\n			Like this:Like Loading...
URL:https://housmans.com/event/book-launch-the-forest-fights-back-with-jessica-den-outer/
CATEGORIES:Book Launch,Book Talk
ATTACH;FMTTYPE=image/jpeg:https://housmans.com/wp-content/uploads/2026/04/9780745351490-1-1.jpg
END:VEVENT
BEGIN:VEVENT
DTSTART;TZID=Europe/London:20260527T190000
DTEND;TZID=Europe/London:20260527T203000
DTSTAMP:20260425T143856
CREATED:20260415T142253Z
LAST-MODIFIED:20260415T142255Z
UID:77755-1779908400-1779913800@housmans.com
SUMMARY:BOOK LAUNCH: THE PLOT IS ON FIRE: Manuela Zechner in conversation
DESCRIPTION:We are delighted to welcome Manuela Zechner to Housmans to talk about her truly original and radical work in postcolonial eco-theory. \n\n\n\nAs myths of progress and modernisation collapse in the relentless polycrisis of our time\, how do we strengthen other plots—in community\, practice and struggle? How do we come together as movements for earthcare? \n\n\n\nThe Plot is on Fire: Care Struggles after Progress\, Plantation and Patriarchy weaves stories\, proposals\, and analyses around a key domain of living reproduction in crisis: agriculture. Looking at peasant\, indigenous\, and transecofeminist practices\, it formulates another plot on how we want to sustain life collectively—beyond progress\, plantation\, and patriarchy. \n\n\n\nRecovering and repurposing old and new technologies\, and breaking down the division between rural and urban\, the ground is made fertile for growing other futures. Alongside writers like Ursula Le Guin and Octavia Butler\, this work of radical political theory raises critical questions about technology and storytelling\, as matters of care and community. \n\n\n\nAs always\, tickets are priced on a sliding scale. If you are unable to pay for a ticket please do not hesitate to contact us at shop@housmans.com\, and a free ticket will be made available. \n\n\n\nIf you choose ‘book +entry’ your copies of the book will be available to collect on the evening. If you would like to collect it earlier\, or arrange for delivery\, please contact us (postage is £2.95). Telephone 020 7837 4473 or email shop@housmans.com. \n\n\n\nDoors Open at 6:45pm\, Event Starts 7:00 \n\n\n\n\n\n\n\n\n\n\n\n\n\n\n\n\n\n\nShare this:\n				Share on X (Opens in new window)\n				X\n			\n				Share on Facebook (Opens in new window)\n				Facebook\n			\n				Share on Insta (Opens in new window)\n				Insta\n			Like this:Like Loading...
URL:https://housmans.com/event/book-launch-the-plot-is-on-fire-manuela-zechner-in-conversation/
CATEGORIES:Book Launch,Book Talk,In Store
ATTACH;FMTTYPE=image/jpeg:https://housmans.com/wp-content/uploads/2026/04/9780745352084.jpg
END:VEVENT
END:VCALENDAR